Package: ribor Version: 1.21.0 Command: /home/biocbuild/R/R/bin/R CMD build --keep-empty-dirs --no-resave-data ribor StartedAt: 2025-07-15 02:16:39 -0000 (Tue, 15 Jul 2025) EndedAt: 2025-07-15 02:18:04 -0000 (Tue, 15 Jul 2025) EllapsedTime: 85.1 seconds RetCode: 0 Status: OK PackageFile: ribor_1.21.0.tar.gz PackageFileSize: 4.112 MiB