Package: ribor Version: 1.21.0 Command: F:\biocbuild\bbs-3.22-bioc\R\bin\R.exe CMD INSTALL ribor StartedAt: 2025-07-20 15:29:57 -0400 (Sun, 20 Jul 2025) EndedAt: 2025-07-20 15:30:28 -0400 (Sun, 20 Jul 2025) EllapsedTime: 31.0 seconds RetCode: 0 Status: OK