Package: ribor Version: 1.21.0 Command: /Library/Frameworks/R.framework/Resources/bin/R CMD INSTALL ribor StartedAt: 2025-07-01 15:27:45 -0400 (Tue, 01 Jul 2025) EndedAt: 2025-07-01 15:27:58 -0400 (Tue, 01 Jul 2025) EllapsedTime: 13.0 seconds RetCode: 0 Status: OK