Package: ribor Version: 1.21.0 Command: /Library/Frameworks/R.framework/Resources/bin/R CMD INSTALL ribor StartedAt: 2025-07-11 15:07:39 -0400 (Fri, 11 Jul 2025) EndedAt: 2025-07-11 15:07:43 -0400 (Fri, 11 Jul 2025) EllapsedTime: 3.9 seconds RetCode: 0 Status: OK