Package: riboSeqR Version: 1.43.0 Command: /home/biocbuild/R/R/bin/R CMD INSTALL riboSeqR StartedAt: 2025-07-17 20:26:46 -0000 (Thu, 17 Jul 2025) EndedAt: 2025-07-17 20:27:06 -0000 (Thu, 17 Jul 2025) EllapsedTime: 20.5 seconds RetCode: 0 Status: OK