Package: riboSeqR Version: 1.43.0 Command: /home/biocbuild/R/R/bin/R CMD build --keep-empty-dirs --no-resave-data riboSeqR StartedAt: 2025-07-18 02:27:59 -0000 (Fri, 18 Jul 2025) EndedAt: 2025-07-18 02:28:32 -0000 (Fri, 18 Jul 2025) EllapsedTime: 33.0 seconds RetCode: 0 Status: OK PackageFile: riboSeqR_1.43.0.tar.gz PackageFileSize: 3.644 MiB