Package: riboSeqR Version: 1.43.0 Command: F:\biocbuild\bbs-3.22-bioc\R\bin\R.exe CMD check --no-multiarch --install=check:riboSeqR.install-out.txt --library=F:\biocbuild\bbs-3.22-bioc\R\library --no-vignettes --timings riboSeqR_1.43.0.tar.gz StartedAt: 2025-07-23 05:58:29 -0400 (Wed, 23 Jul 2025) EndedAt: 2025-07-23 06:00:47 -0400 (Wed, 23 Jul 2025) EllapsedTime: 138.0 seconds RetCode: 0 Status: OK CheckDir: riboSeqR.Rcheck Warnings: 0