Package: rgsepd Version: 1.41.0 Command: F:\biocbuild\bbs-3.22-bioc\R\bin\R.exe CMD INSTALL rgsepd StartedAt: 2025-07-24 16:51:03 -0400 (Thu, 24 Jul 2025) EndedAt: 2025-07-24 16:54:00 -0400 (Thu, 24 Jul 2025) EllapsedTime: 177.0 seconds RetCode: 0 Status: OK