Package: rgsepd Version: 1.41.0 Command: /Library/Frameworks/R.framework/Resources/bin/R CMD INSTALL rgsepd StartedAt: 2025-07-14 15:43:51 -0400 (Mon, 14 Jul 2025) EndedAt: 2025-07-14 15:47:16 -0400 (Mon, 14 Jul 2025) EllapsedTime: 205.0 seconds RetCode: 0 Status: OK