Package: rgsepd Version: 1.41.0 Command: rm -rf rgsepd.buildbin-libdir && mkdir rgsepd.buildbin-libdir && /Users/biocbuild/BBS/utils/build-universal.sh rgsepd_1.41.0.tar.gz /Library/Frameworks/R.framework/Resources/bin/R rgsepd.buildbin-libdir StartedAt: 2025-07-15 01:15:30 -0400 (Tue, 15 Jul 2025) EndedAt: 2025-07-15 01:18:45 -0400 (Tue, 15 Jul 2025) EllapsedTime: 195.1 seconds RetCode: 0 Status: OK PackageFile: rgsepd_1.41.0.tgz PackageFileSize: 1.299 MiB