Package: rgoslin Version: 1.13.0 Command: /home/biocbuild/bbs-3.22-bioc/R/bin/R CMD check --install=check:rgoslin.install-out.txt --library=/home/biocbuild/bbs-3.22-bioc/R/site-library --timings rgoslin_1.13.0.tar.gz StartedAt: 2025-07-12 01:42:14 -0400 (Sat, 12 Jul 2025) EndedAt: 2025-07-12 01:42:54 -0400 (Sat, 12 Jul 2025) EllapsedTime: 40.0 seconds RetCode: 0 Status: OK CheckDir: rgoslin.Rcheck Warnings: 0