Package: rgoslin Version: 1.13.0 Command: /home/biocbuild/bbs-3.22-bioc/R/bin/R CMD build --keep-empty-dirs --no-resave-data --md5 rgoslin StartedAt: 2025-07-11 18:46:20 -0400 (Fri, 11 Jul 2025) EndedAt: 2025-07-11 18:49:18 -0400 (Fri, 11 Jul 2025) EllapsedTime: 178.2 seconds RetCode: 0 Status: OK PackageFile: rgoslin_1.13.0.tar.gz PackageFileSize: 733.5 KiB