Package: rgoslin Version: 1.13.0 Command: /Library/Frameworks/R.framework/Resources/bin/R CMD INSTALL rgoslin StartedAt: 2025-07-07 15:10:09 -0400 (Mon, 07 Jul 2025) EndedAt: 2025-07-07 15:12:48 -0400 (Mon, 07 Jul 2025) EllapsedTime: 159.3 seconds RetCode: 0 Status: OK