Package: rgoslin Version: 1.13.0 Command: /Library/Frameworks/R.framework/Resources/bin/R CMD build --keep-empty-dirs --no-resave-data rgoslin StartedAt: 2025-07-07 18:12:38 -0400 (Mon, 07 Jul 2025) EndedAt: 2025-07-07 18:16:25 -0400 (Mon, 07 Jul 2025) EllapsedTime: 226.6 seconds RetCode: 0 Status: OK PackageFile: rgoslin_1.13.0.tar.gz PackageFileSize: 1.465 MiB