Package: rgoslin Version: 1.13.0 Command: rm -rf rgoslin.buildbin-libdir && mkdir rgoslin.buildbin-libdir && /Users/biocbuild/BBS/utils/build-universal.sh rgoslin_1.13.0.tar.gz /Library/Frameworks/R.framework/Resources/bin/R rgoslin.buildbin-libdir StartedAt: 2025-07-08 01:10:57 -0400 (Tue, 08 Jul 2025) EndedAt: 2025-07-08 01:15:09 -0400 (Tue, 08 Jul 2025) EllapsedTime: 251.5 seconds RetCode: 0 Status: OK PackageFile: rgoslin_1.13.0.tgz PackageFileSize: 1.174 MiB