Package: rgoslin Version: 1.13.0 Command: /Library/Frameworks/R.framework/Resources/bin/R CMD build --keep-empty-dirs --no-resave-data rgoslin StartedAt: 2025-07-13 17:20:23 -0400 (Sun, 13 Jul 2025) EndedAt: 2025-07-13 17:21:33 -0400 (Sun, 13 Jul 2025) EllapsedTime: 69.7 seconds RetCode: 0 Status: OK PackageFile: rgoslin_1.13.0.tar.gz PackageFileSize: 1.401 MiB