Package: rfPred Version: 1.47.0 Command: F:\biocbuild\bbs-3.22-bioc\R\bin\R.exe CMD INSTALL rfPred StartedAt: 2025-07-07 15:51:56 -0400 (Mon, 07 Jul 2025) EndedAt: 2025-07-07 15:52:14 -0400 (Mon, 07 Jul 2025) EllapsedTime: 18.8 seconds RetCode: 0 Status: OK