Package: rfPred Version: 1.47.0 Command: F:\biocbuild\bbs-3.22-bioc\R\bin\R.exe CMD check --no-multiarch --install=check:rfPred.install-out.txt --library=F:\biocbuild\bbs-3.22-bioc\R\library --no-vignettes --timings rfPred_1.47.0.tar.gz StartedAt: 2025-07-10 06:20:20 -0400 (Thu, 10 Jul 2025) EndedAt: 2025-07-10 06:22:12 -0400 (Thu, 10 Jul 2025) EllapsedTime: 111.8 seconds RetCode: 0 Status: OK CheckDir: rfPred.Rcheck Warnings: 0