Package: rfPred Version: 1.47.0 Command: chmod a+r rfPred -R && F:\biocbuild\bbs-3.22-bioc\R\bin\R.exe CMD build --keep-empty-dirs --no-resave-data rfPred StartedAt: 2025-07-07 21:34:23 -0400 (Mon, 07 Jul 2025) EndedAt: 2025-07-07 21:34:51 -0400 (Mon, 07 Jul 2025) EllapsedTime: 28.0 seconds RetCode: 0 Status: OK PackageFile: rfPred_1.47.0.tar.gz PackageFileSize: 1.054 MiB