Package: rfPred Version: 1.47.0 Command: rm -rf rfPred.buildbin-libdir && mkdir rfPred.buildbin-libdir && F:\biocbuild\bbs-3.22-bioc\R\bin\R.exe CMD INSTALL --build --library=rfPred.buildbin-libdir rfPred_1.47.0.tar.gz StartedAt: 2025-07-10 10:20:52 -0400 (Thu, 10 Jul 2025) EndedAt: 2025-07-10 10:21:11 -0400 (Thu, 10 Jul 2025) EllapsedTime: 19.2 seconds RetCode: 0 Status: OK PackageFile: rfPred_1.47.0.zip PackageFileSize: 1.082 MiB