Package: rexposome Version: 1.31.0 Command: /Library/Frameworks/R.framework/Resources/bin/R CMD check --install=check:rexposome.install-out.txt --library=/Library/Frameworks/R.framework/Resources/library --no-vignettes --timings rexposome_1.31.0.tar.gz StartedAt: 2025-07-13 23:05:13 -0400 (Sun, 13 Jul 2025) EndedAt: 2025-07-13 23:08:27 -0400 (Sun, 13 Jul 2025) EllapsedTime: 193.6 seconds RetCode: 0 Status: WARNINGS CheckDir: rexposome.Rcheck Warnings: 5