Package: rexposome Version: 1.31.0 Command: /Library/Frameworks/R.framework/Resources/bin/R CMD build --keep-empty-dirs --no-resave-data rexposome StartedAt: 2025-07-13 18:14:53 -0400 (Sun, 13 Jul 2025) EndedAt: 2025-07-13 18:16:45 -0400 (Sun, 13 Jul 2025) EllapsedTime: 112.0 seconds RetCode: 0 Status: OK PackageFile: rexposome_1.31.0.tar.gz PackageFileSize: 8.653 MiB