Package: rexposome Version: 1.31.0 Command: rm -rf rexposome.buildbin-libdir && mkdir rexposome.buildbin-libdir && /Users/biocbuild/BBS/utils/build-universal.sh rexposome_1.31.0.tar.gz /Library/Frameworks/R.framework/Resources/bin/R rexposome.buildbin-libdir StartedAt: 2025-07-14 22:31:31 -0400 (Mon, 14 Jul 2025) EndedAt: 2025-07-14 22:31:41 -0400 (Mon, 14 Jul 2025) EllapsedTime: 10.2 seconds RetCode: 0 Status: OK PackageFile: rexposome_1.31.0.tgz PackageFileSize: 9.162 MiB