Package: regutools Version: 1.21.0 Command: F:\biocbuild\bbs-3.22-bioc\R\bin\R.exe CMD INSTALL regutools StartedAt: 2025-07-21 16:45:36 -0400 (Mon, 21 Jul 2025) EndedAt: 2025-07-21 16:46:53 -0400 (Mon, 21 Jul 2025) EllapsedTime: 76.5 seconds RetCode: 0 Status: OK