Package: regutools Version: 1.21.0 Command: chmod a+r regutools -R && F:\biocbuild\bbs-3.22-bioc\R\bin\R.exe CMD build --keep-empty-dirs --no-resave-data regutools StartedAt: 2025-07-21 21:37:43 -0400 (Mon, 21 Jul 2025) EndedAt: 2025-07-21 21:40:13 -0400 (Mon, 21 Jul 2025) EllapsedTime: 150.2 seconds RetCode: 0 Status: OK PackageFile: regutools_1.21.0.tar.gz PackageFileSize: 360 KiB