Package: regutools Version: 1.21.0 Command: /Library/Frameworks/R.framework/Resources/bin/R CMD INSTALL regutools StartedAt: 2025-10-05 15:25:43 -0400 (Sun, 05 Oct 2025) EndedAt: 2025-10-05 15:26:06 -0400 (Sun, 05 Oct 2025) EllapsedTime: 23.1 seconds RetCode: 0 Status: OK