Package: regsplice Version: 1.35.0 Maintainer: Lukas M. Weber MaintainerEmail: lukas.weber.edu at gmail.com git_url: https://git.bioconductor.org/packages/regsplice git_branch: devel git_last_commit: 0a758f8 git_last_commit_date: 2025-04-15 11:06:46 -0400 (Tue, 15 Apr 2025)