Package: regioneReloaded Version: 1.11.0 Command: F:\biocbuild\bbs-3.22-bioc\R\bin\R.exe CMD check --no-multiarch --install=check:regioneReloaded.install-out.txt --library=F:\biocbuild\bbs-3.22-bioc\R\library --no-vignettes --timings regioneReloaded_1.11.0.tar.gz StartedAt: 2025-07-21 05:44:52 -0400 (Mon, 21 Jul 2025) EndedAt: 2025-07-21 05:53:53 -0400 (Mon, 21 Jul 2025) EllapsedTime: 541.1 seconds RetCode: 0 Status: OK CheckDir: regioneReloaded.Rcheck Warnings: 0