Package: regioneReloaded Version: 1.11.0 Command: /home/biocbuild/bbs-3.22-bioc/R/bin/R CMD check --install=check:regioneReloaded.install-out.txt --library=/home/biocbuild/bbs-3.22-bioc/R/site-library --timings regioneReloaded_1.11.0.tar.gz StartedAt: 2025-07-15 01:42:30 -0400 (Tue, 15 Jul 2025) EndedAt: 2025-07-15 01:49:49 -0400 (Tue, 15 Jul 2025) EllapsedTime: 439.6 seconds RetCode: 0 Status: OK CheckDir: regioneReloaded.Rcheck Warnings: 0