Package: regioneReloaded Version: 1.11.0 Command: /home/biocbuild/bbs-3.22-bioc/R/bin/R CMD build --keep-empty-dirs --no-resave-data --md5 regioneReloaded StartedAt: 2025-07-14 18:49:35 -0400 (Mon, 14 Jul 2025) EndedAt: 2025-07-14 18:50:52 -0400 (Mon, 14 Jul 2025) EllapsedTime: 77.1 seconds RetCode: 0 Status: OK PackageFile: regioneReloaded_1.11.0.tar.gz PackageFileSize: 4.142 MiB