Package: regioneReloaded Version: 1.11.0 Command: /Library/Frameworks/R.framework/Resources/bin/R CMD build --keep-empty-dirs --no-resave-data regioneReloaded StartedAt: 2025-07-20 17:21:33 -0400 (Sun, 20 Jul 2025) EndedAt: 2025-07-20 17:22:05 -0400 (Sun, 20 Jul 2025) EllapsedTime: 32.3 seconds RetCode: 0 Status: OK PackageFile: regioneReloaded_1.11.0.tar.gz PackageFileSize: 4.041 MiB