Package: regioneReloaded Version: 1.11.0 Command: rm -rf regioneReloaded.buildbin-libdir && mkdir regioneReloaded.buildbin-libdir && /Users/biocbuild/BBS/utils/build-universal.sh regioneReloaded_1.11.0.tar.gz /Library/Frameworks/R.framework/Resources/bin/R regioneReloaded.buildbin-libdir StartedAt: 2025-07-20 22:38:20 -0400 (Sun, 20 Jul 2025) EndedAt: 2025-07-20 22:38:36 -0400 (Sun, 20 Jul 2025) EllapsedTime: 16.3 seconds RetCode: 0 Status: OK PackageFile: regioneReloaded_1.11.0.tgz PackageFileSize: 3.636 MiB