Package: regioneR Version: 1.41.3 Command: chmod a+r regioneR -R && F:\biocbuild\bbs-3.22-bioc\R\bin\R.exe CMD build --keep-empty-dirs --no-resave-data regioneR StartedAt: 2025-08-14 22:42:13 -0400 (Thu, 14 Aug 2025) EndedAt: 2025-08-14 22:47:29 -0400 (Thu, 14 Aug 2025) EllapsedTime: 315.7 seconds RetCode: 0 Status: OK PackageFile: regioneR_1.41.3.tar.gz PackageFileSize: 1.698 MiB