Package: regioneR Version: 1.41.3 Command: rm -rf regioneR.buildbin-libdir && mkdir regioneR.buildbin-libdir && F:\biocbuild\bbs-3.22-bioc\R\bin\R.exe CMD INSTALL --build --library=regioneR.buildbin-libdir regioneR_1.41.3.tar.gz StartedAt: 2025-08-15 11:06:16 -0400 (Fri, 15 Aug 2025) EndedAt: 2025-08-15 11:07:09 -0400 (Fri, 15 Aug 2025) EllapsedTime: 52.5 seconds RetCode: 0 Status: OK PackageFile: regioneR_1.41.3.zip PackageFileSize: 1.612 MiB