Package: regionalpcs Version: 1.7.0 Command: rm -rf regionalpcs.buildbin-libdir && mkdir regionalpcs.buildbin-libdir && /Users/biocbuild/BBS/utils/build-universal.sh regionalpcs_1.7.0.tar.gz /Library/Frameworks/R.framework/Resources/bin/R regionalpcs.buildbin-libdir StartedAt: 2025-07-21 22:37:45 -0400 (Mon, 21 Jul 2025) EndedAt: 2025-07-21 22:37:47 -0400 (Mon, 21 Jul 2025) EllapsedTime: 2.0 seconds RetCode: 0 Status: OK PackageFile: regionalpcs_1.7.0.tgz PackageFileSize: 477.4 KiB