Package: regionalpcs Version: 1.7.0 Maintainer: Tiffany Eulalio MaintainerEmail: tyeulalio at gmail.com git_url: https://git.bioconductor.org/packages/regionalpcs git_branch: devel git_last_commit: 2561ac0 git_last_commit_date: 2025-04-15 13:24:18 -0400 (Tue, 15 Apr 2025)