Package: regionReport Version: 1.43.1 Command: /home/biocbuild/R/R/bin/R CMD build --keep-empty-dirs --no-resave-data regionReport StartedAt: 2025-10-03 02:32:06 -0000 (Fri, 03 Oct 2025) EndedAt: 2025-10-03 02:33:36 -0000 (Fri, 03 Oct 2025) EllapsedTime: 90.0 seconds RetCode: 0 Status: OK PackageFile: regionReport_1.43.1.tar.gz PackageFileSize: 775.6 KiB