Package: regionReport Version: 1.43.1 Command: /home/biocbuild/bbs-3.22-bioc/R/bin/R CMD INSTALL regionReport StartedAt: 2025-10-03 15:57:29 -0400 (Fri, 03 Oct 2025) EndedAt: 2025-10-03 15:58:17 -0400 (Fri, 03 Oct 2025) EllapsedTime: 48.3 seconds RetCode: 0 Status: OK