Package: regionReport Version: 1.43.1 Command: /home/biocbuild/bbs-3.22-bioc/R/bin/R CMD check --install=check:regionReport.install-out.txt --library=/home/biocbuild/bbs-3.22-bioc/R/site-library --timings regionReport_1.43.1.tar.gz StartedAt: 2025-10-04 03:22:06 -0400 (Sat, 04 Oct 2025) EndedAt: 2025-10-04 03:31:37 -0400 (Sat, 04 Oct 2025) EllapsedTime: 570.7 seconds RetCode: 0 Status: OK CheckDir: regionReport.Rcheck Warnings: 0