Package: regionReport Version: 1.43.1 Command: /Library/Frameworks/R.framework/Resources/bin/R CMD INSTALL regionReport StartedAt: 2025-10-05 15:48:58 -0400 (Sun, 05 Oct 2025) EndedAt: 2025-10-05 15:50:02 -0400 (Sun, 05 Oct 2025) EllapsedTime: 64.7 seconds RetCode: 0 Status: OK