Package: regionReport Version: 1.43.1 Command: /Library/Frameworks/R.framework/Resources/bin/R CMD build --keep-empty-dirs --no-resave-data regionReport StartedAt: 2025-10-05 18:37:49 -0400 (Sun, 05 Oct 2025) EndedAt: 2025-10-05 18:39:17 -0400 (Sun, 05 Oct 2025) EllapsedTime: 88.0 seconds RetCode: 0 Status: OK PackageFile: regionReport_1.43.1.tar.gz PackageFileSize: 643.8 KiB