Package: regionReport Version: 1.43.1 Command: /Library/Frameworks/R.framework/Resources/bin/R CMD check --install=check:regionReport.install-out.txt --library=/Library/Frameworks/R.framework/Resources/library --no-vignettes --timings regionReport_1.43.1.tar.gz StartedAt: 2025-10-05 21:19:01 -0400 (Sun, 05 Oct 2025) EndedAt: 2025-10-05 21:22:46 -0400 (Sun, 05 Oct 2025) EllapsedTime: 225.6 seconds RetCode: 0 Status: OK CheckDir: regionReport.Rcheck Warnings: 0