Package: regionReport Version: 1.43.1 Command: /Library/Frameworks/R.framework/Resources/bin/R CMD build --keep-empty-dirs --no-resave-data regionReport StartedAt: 2025-10-05 17:31:11 -0400 (Sun, 05 Oct 2025) EndedAt: 2025-10-05 17:31:41 -0400 (Sun, 05 Oct 2025) EllapsedTime: 30.3 seconds RetCode: 0 Status: OK PackageFile: regionReport_1.43.1.tar.gz PackageFileSize: 643.8 KiB