Package: regionReport Version: 1.43.1 Command: rm -rf regionReport.buildbin-libdir && mkdir regionReport.buildbin-libdir && /Users/biocbuild/BBS/utils/build-universal.sh regionReport_1.43.1.tar.gz /Library/Frameworks/R.framework/Resources/bin/R regionReport.buildbin-libdir StartedAt: 2025-10-05 22:55:46 -0400 (Sun, 05 Oct 2025) EndedAt: 2025-10-05 22:56:07 -0400 (Sun, 05 Oct 2025) EllapsedTime: 21.4 seconds RetCode: 0 Status: OK PackageFile: regionReport_1.43.1.tgz PackageFileSize: 695.8 KiB