Package: recoup Version: 1.37.1 Command: /home/biocbuild/R/R/bin/R CMD INSTALL recoup StartedAt: 2025-10-02 21:08:27 -0000 (Thu, 02 Oct 2025) EndedAt: 2025-10-02 21:09:26 -0000 (Thu, 02 Oct 2025) EllapsedTime: 59.0 seconds RetCode: 0 Status: OK