Package: recoup Version: 1.37.1 Command: /home/biocbuild/R/R/bin/R CMD build --keep-empty-dirs --no-resave-data recoup StartedAt: 2025-10-03 02:30:53 -0000 (Fri, 03 Oct 2025) EndedAt: 2025-10-03 02:32:13 -0000 (Fri, 03 Oct 2025) EllapsedTime: 80.0 seconds RetCode: 0 Status: OK PackageFile: recoup_1.37.1.tar.gz PackageFileSize: 2.318 MiB