Package: recoup Version: 1.37.1 Command: F:\biocbuild\bbs-3.22-bioc\R\bin\R.exe CMD check --no-multiarch --install=check:recoup.install-out.txt --library=F:\biocbuild\bbs-3.22-bioc\R\library --no-vignettes --timings recoup_1.37.1.tar.gz StartedAt: 2025-08-15 06:55:04 -0400 (Fri, 15 Aug 2025) EndedAt: 2025-08-15 07:03:05 -0400 (Fri, 15 Aug 2025) EllapsedTime: 480.9 seconds RetCode: 0 Status: OK CheckDir: recoup.Rcheck Warnings: 0