Package: recoup Version: 1.37.1 Command: /home/biocbuild/bbs-3.22-bioc/R/bin/R CMD INSTALL recoup StartedAt: 2025-10-05 15:39:10 -0400 (Sun, 05 Oct 2025) EndedAt: 2025-10-05 15:39:54 -0400 (Sun, 05 Oct 2025) EllapsedTime: 44.2 seconds RetCode: 0 Status: OK