Package: recoup Version: 1.37.1 Command: rm -rf recoup.buildbin-libdir && mkdir recoup.buildbin-libdir && /Users/biocbuild/BBS/utils/build-universal.sh recoup_1.37.1.tar.gz /Library/Frameworks/R.framework/Resources/bin/R recoup.buildbin-libdir StartedAt: 2025-10-04 02:24:12 -0400 (Sat, 04 Oct 2025) EndedAt: 2025-10-04 02:25:18 -0400 (Sat, 04 Oct 2025) EllapsedTime: 66.0 seconds RetCode: 0 Status: OK PackageFile: recoup_1.37.1.tgz PackageFileSize: 2.691 MiB