Package: recoup Version: 1.37.1 Command: /Library/Frameworks/R.framework/Resources/bin/R CMD INSTALL recoup StartedAt: 2025-10-05 15:20:32 -0400 (Sun, 05 Oct 2025) EndedAt: 2025-10-05 15:20:50 -0400 (Sun, 05 Oct 2025) EllapsedTime: 18.0 seconds RetCode: 0 Status: OK